BEGIN:VCALENDAR
VERSION:2.0
PRODID:-//Pinco S.r.l. - ECPv6.15.20//NONSGML v1.0//EN
CALSCALE:GREGORIAN
METHOD:PUBLISH
X-WR-CALNAME:Pinco S.r.l.
X-ORIGINAL-URL:https://www.pincobiz.com
X-WR-CALDESC:Eventi per Pinco S.r.l.
REFRESH-INTERVAL;VALUE=DURATION:PT1H
X-Robots-Tag:noindex
X-PUBLISHED-TTL:PT1H
BEGIN:VTIMEZONE
TZID:UTC
BEGIN:STANDARD
TZOFFSETFROM:+0000
TZOFFSETTO:+0000
TZNAME:UTC
DTSTART:20210101T000000
END:STANDARD
END:VTIMEZONE
BEGIN:VTIMEZONE
TZID:Europe/Rome
BEGIN:DAYLIGHT
TZOFFSETFROM:+0100
TZOFFSETTO:+0200
TZNAME:CEST
DTSTART:20160327T010000
END:DAYLIGHT
BEGIN:STANDARD
TZOFFSETFROM:+0200
TZOFFSETTO:+0100
TZNAME:CET
DTSTART:20161030T010000
END:STANDARD
BEGIN:DAYLIGHT
TZOFFSETFROM:+0100
TZOFFSETTO:+0200
TZNAME:CEST
DTSTART:20170326T010000
END:DAYLIGHT
BEGIN:STANDARD
TZOFFSETFROM:+0200
TZOFFSETTO:+0100
TZNAME:CET
DTSTART:20171029T010000
END:STANDARD
BEGIN:DAYLIGHT
TZOFFSETFROM:+0100
TZOFFSETTO:+0200
TZNAME:CEST
DTSTART:20180325T010000
END:DAYLIGHT
BEGIN:STANDARD
TZOFFSETFROM:+0200
TZOFFSETTO:+0100
TZNAME:CET
DTSTART:20181028T010000
END:STANDARD
BEGIN:DAYLIGHT
TZOFFSETFROM:+0100
TZOFFSETTO:+0200
TZNAME:CEST
DTSTART:20190331T010000
END:DAYLIGHT
BEGIN:STANDARD
TZOFFSETFROM:+0200
TZOFFSETTO:+0100
TZNAME:CET
DTSTART:20191027T010000
END:STANDARD
BEGIN:DAYLIGHT
TZOFFSETFROM:+0100
TZOFFSETTO:+0200
TZNAME:CEST
DTSTART:20200329T010000
END:DAYLIGHT
BEGIN:STANDARD
TZOFFSETFROM:+0200
TZOFFSETTO:+0100
TZNAME:CET
DTSTART:20201025T010000
END:STANDARD
BEGIN:DAYLIGHT
TZOFFSETFROM:+0100
TZOFFSETTO:+0200
TZNAME:CEST
DTSTART:20210328T010000
END:DAYLIGHT
BEGIN:STANDARD
TZOFFSETFROM:+0200
TZOFFSETTO:+0100
TZNAME:CET
DTSTART:20211031T010000
END:STANDARD
BEGIN:DAYLIGHT
TZOFFSETFROM:+0100
TZOFFSETTO:+0200
TZNAME:CEST
DTSTART:20220327T010000
END:DAYLIGHT
BEGIN:STANDARD
TZOFFSETFROM:+0200
TZOFFSETTO:+0100
TZNAME:CET
DTSTART:20221030T010000
END:STANDARD
END:VTIMEZONE
BEGIN:VEVENT
DTSTART;TZID=UTC:20220519T080000
DTEND;TZID=UTC:20220522T170000
DTSTAMP:20260420T151351
CREATED:20220509T080103Z
LAST-MODIFIED:20230924T123138Z
UID:2637-1652947200-1653238800@www.pincobiz.com
SUMMARY:Nove Colli di Cesenatico
DESCRIPTION:La Nove Colli è l’evento più affascinante dedicato agli amatori delle due ruote\, più di 9.000 atleti pronti a sfidarsi per le tortuose montagne della romagna. Quest’anno saremo presenti con il brand Nuncas (tag) presso il villaggio dal 18 al 21 di Maggio. Segui suoi nostri canali cosa accade!
URL:https://www.pincobiz.com/event/nove-colli-di-cesenatico/
ATTACH;FMTTYPE=image/jpeg:https://www.pincobiz.com/wp-content/uploads/2022/05/NOVECOLLI_0067-scaled.jpg
END:VEVENT
BEGIN:VEVENT
DTSTART;VALUE=DATE:20211003
DTEND;VALUE=DATE:20211004
DTSTAMP:20260420T151351
CREATED:20210329T141757Z
LAST-MODIFIED:20230924T123135Z
UID:2624-1633219200-1633305599@www.pincobiz.com
SUMMARY:Eroica Gaiole
DESCRIPTION:L’evento più autentico sulla bici è l’Eroica. Da qualche anno appuntamento fisso per chi vuole vivere intensamente un’esperienza unica nello splendido paesaggio toscano. Anche noi saremo presenti per rappresentare l’immagine di Parmigiano Reggiano nelle 3 tappe più rappresentative. L’appuntamento di Gaiole è quello storico che ha dato il via agli appuntamenti eroici. Vi aspettiamo
URL:https://www.pincobiz.com/event/eroica-gaiole/
END:VEVENT
BEGIN:VEVENT
DTSTART;VALUE=DATE:20210717
DTEND;VALUE=DATE:20210718
DTSTAMP:20260420T151351
CREATED:20210329T144009Z
LAST-MODIFIED:20230924T123136Z
UID:2628-1626480000-1626566399@www.pincobiz.com
SUMMARY:Nova Eroica Buonconvento
DESCRIPTION:L’evento più autentico sulla bici è l’Eroica. Da qualche anno appuntamento fisso per chi vuole vivere intensamente un’esperienza unica nello splendido paesaggio toscano. Anche noi saremo presenti per rappresentare l’immagine di Parmigiano Reggiano nelle 3 tappe più rappresentative. Nova Eroica di Buonconvento è l’appuntamento GRAVEL da vivere nella splendida coreografica toscana. Un appuntamento da non perdere
URL:https://www.pincobiz.com/event/nova-eroica-buonconvento-2/
END:VEVENT
BEGIN:VEVENT
DTSTART;TZID=Europe/Rome:20210626T080000
DTEND;TZID=Europe/Rome:20210627T170000
DTSTAMP:20260420T151351
CREATED:20210330T063601Z
LAST-MODIFIED:20230924T123137Z
UID:2631-1624694400-1624813200@www.pincobiz.com
SUMMARY:Lavaredo Ultra Trail
DESCRIPTION:La Lavaredo Ultra Trail non ha bisogno di presentazioni. Un evento unico dove sport\, natura e tanta fatica si uniscono nello splendido scenario delle Dolomiti\, patrimonio dell’Unesco. \nUn appuntamento che ci vedrà presente con Parmigiano Reggiano per supportare la presenza del brand emiliano\, eccellenza alimentare italiana nel mondo.
URL:https://www.pincobiz.com/event/lavaredo-ultra-trail/
END:VEVENT
BEGIN:VEVENT
DTSTART;TZID=Europe/Rome:20210530T080000
DTEND;TZID=Europe/Rome:20210530T170000
DTSTAMP:20260420T151351
CREATED:20210329T141243Z
LAST-MODIFIED:20230924T123135Z
UID:2620-1622361600-1622394000@www.pincobiz.com
SUMMARY:Eroica Montalcino
DESCRIPTION:L’evento più autentico sulla bici è l’Eroica. Da qualche anno appuntamento fisso per chi vuole vivere intensamente un’esperienza unica nello splendido paesaggio toscano. \nAnche noi saremo presenti per rappresentare l’immagine di Parmigiano Reggiano nelle 3 tappe più rappresentative. \nOggi presentiamo la classica Eroica di Montalcino\, apertura del circuito nella culla della cittadina con il vino toscano più conosciuto nel mondo.
URL:https://www.pincobiz.com/event/eroica-di-montalcino/
END:VEVENT
BEGIN:VEVENT
DTSTART;TZID=Europe/Rome:20210423T153000
DTEND;TZID=Europe/Rome:20210423T193000
DTSTAMP:20260420T151351
CREATED:20210329T134531Z
LAST-MODIFIED:20230924T123134Z
UID:2618-1619191800-1619206200@www.pincobiz.com
SUMMARY:No Drop No Out - Polesine Zibello
DESCRIPTION:Vogliamo tornare agli eventi. No Drop No out è il progetto contro l’abbandono sportivo. Non solo sport ma un vero e proprio tour itinerante che avvicina i più giovani allo sport di strada. Ecco le tappe di Parma per il prossimo 22 e 23 aprile 2021. \nPolesine Zibello  sarà il secondo degli appuntamenti il 23 di Aprile presso la piazza centrale \nVi aspettiamo
URL:https://www.pincobiz.com/event/no-drop-no-out-polesine-zibello/
END:VEVENT
BEGIN:VEVENT
DTSTART;TZID=Europe/Rome:20210422T153000
DTEND;TZID=Europe/Rome:20210422T193000
DTSTAMP:20260420T151351
CREATED:20210329T133633Z
LAST-MODIFIED:20230924T123133Z
UID:2613-1619105400-1619119800@www.pincobiz.com
SUMMARY:No Drop No Out - Neviano degli Arduini
DESCRIPTION:Vogliamo tornare agli eventi. No Drop No out è il progetto contro l’abbandono sportivo. Non solo sport ma un vero e proprio tour itinerante che avvicina i più giovani allo sport di strada. Ecco le tappe di Parma per il prossimo 22 e 23 aprile 2021. \nNeviano degli Arduini sarà il primo dei appuntamenti previsto quindi il 22 di Aprile nella pista polivalente parrocchiale dalle 15.30  alle 19.30. \nVi aspettiamo \n  \n  \nap
URL:https://www.pincobiz.com/event/no-drop-no-out-neviano-degli-arduini/
END:VEVENT
BEGIN:VEVENT
DTSTART;TZID=Europe/Rome:20201024T080000
DTEND;TZID=Europe/Rome:20201025T170000
DTSTAMP:20260420T151351
CREATED:20201009T074412Z
LAST-MODIFIED:20230924T123133Z
UID:2604-1603526400-1603645200@www.pincobiz.com
SUMMARY:Nova Eroica Buonconvento
DESCRIPTION:Tornano gli eventi con Parmigiano Reggiano nel cuore del Chianti con uno degli eventi di ciclismo più importanti. \nSaremo presenti per Parmigiano Reggiano con l’allestimento di uno stand e la gestione del brand per l’evento. Vi aspettiamo. \n \n 
URL:https://www.pincobiz.com/event/nova-eroica-buonconvento/
LOCATION:buonconvento
ATTACH;FMTTYPE=image/jpeg:https://www.pincobiz.com/wp-content/uploads/2020/10/eroia.jpg
END:VEVENT
BEGIN:VEVENT
DTSTART;TZID=Europe/Rome:20191021T080000
DTEND;TZID=Europe/Rome:20191023T223000
DTSTAMP:20260420T151351
CREATED:20190503T114750Z
LAST-MODIFIED:20230924T123130Z
UID:2558-1571644800-1571869800@www.pincobiz.com
SUMMARY:Architects Party - Roma
DESCRIPTION:Ultimo appuntamento con i party per architetti organizzato da Towant. Si finisce con Roma. Un appuntamento che per il secondo anno ritrova la capitale come splendido scenario per l’evento. Pinco Srl sarà presente con il suo team! Vi aspettiamo! \n 
URL:https://www.pincobiz.com/event/architects-party-roma/
ATTACH;FMTTYPE=image/jpeg:https://www.pincobiz.com/wp-content/uploads/2019/05/architects-Party_2019.jpg
END:VEVENT
BEGIN:VEVENT
DTSTART;TZID=Europe/Rome:20190927T080000
DTEND;TZID=Europe/Rome:20190929T170000
DTSTAMP:20260420T151351
CREATED:20190503T122058Z
LAST-MODIFIED:20230924T123130Z
UID:2561-1569571200-1569776400@www.pincobiz.com
SUMMARY:Trentino Sport Days
DESCRIPTION:Il trentino Sport Days è un appuntamento che\, ogni anno\, riporta lo sport a Riva del Garda. \nAnche quest’anno seguiremo per Rollerblade gli allestimenti e l’organizzazione dell’evento. \nPer maggiori informazioni seguite eccovi il link al sito
URL:https://www.pincobiz.com/event/trentino-sport-days/
LOCATION:riva del garda
ATTACH;FMTTYPE=image/png:https://www.pincobiz.com/wp-content/uploads/2019/05/trentino.png
END:VEVENT
BEGIN:VEVENT
DTSTART;VALUE=DATE:20190914
DTEND;VALUE=DATE:20190916
DTSTAMP:20260420T151351
CREATED:20190503T113142Z
LAST-MODIFIED:20230924T123129Z
UID:2552-1568419200-1568591999@www.pincobiz.com
SUMMARY:Biella Inline Skate Contest 2019
DESCRIPTION:Per il secondo anno si ritorna a Biella per un evento che non è solo pattinaggio ma anche festa e divertimento. \n2 giorni di pura adrenalina con i migliori atleti internazionali di Aggressive e tanto\, tanto pattinaggio! \nti aspettiamo per unirti a noi. Pinco Srl sarà impegnata nell’organizzazione sportiva. \nclicca qui per maggiori informazioni.
URL:https://www.pincobiz.com/event/biella-inline-skate-contest-2019/
LOCATION:biella
ATTACH;FMTTYPE=image/jpeg:https://www.pincobiz.com/wp-content/uploads/2019/05/biella.jpg
END:VEVENT
BEGIN:VEVENT
DTSTART;TZID=Europe/Rome:20190618T080000
DTEND;TZID=Europe/Rome:20190620T170000
DTSTAMP:20260420T151351
CREATED:20190503T105814Z
LAST-MODIFIED:20230924T123128Z
UID:2531-1560844800-1561050000@www.pincobiz.com
SUMMARY:Architects Party 2019 - Milano
DESCRIPTION:Nuovo appuntamento con il tour più cool tra gli studi di architettura di Milano. Seconda tappa degli Architects party! Noi ci saremo per video e foto.  e voi?
URL:https://www.pincobiz.com/event/architects-party-2019-milano/
LOCATION:Milano\, Milano\, Italia
ATTACH;FMTTYPE=image/jpeg:https://www.pincobiz.com/wp-content/uploads/2019/05/architects-Party_2019.jpg
END:VEVENT
BEGIN:VEVENT
DTSTART;TZID=Europe/Rome:20190604T200000
DTEND;TZID=Europe/Rome:20190604T233000
DTSTAMP:20260420T151351
CREATED:20190503T111549Z
LAST-MODIFIED:20230924T123129Z
UID:2536-1559678400-1559691000@www.pincobiz.com
SUMMARY:8° Compleanno Milanoskating
DESCRIPTION:Il pattinaggio in Italia ha una sua capitale\, Milano. \nI ragazzi di Milanoskating organizzano anche per quest’anno l’appuntamento più cool per pattinare insieme a voi. \nPinco Srl sarà impegnato sul lato organizzativo per Rollerblade. Un compleanno veramente speciale da seguire! \n 
URL:https://www.pincobiz.com/event/8-compleanno-milanoskating/
LOCATION:Milano\, Milano\, Italia
ATTACH;FMTTYPE=image/jpeg:https://www.pincobiz.com/wp-content/uploads/2019/05/31216829357_49157bcfd2_o.jpg
END:VEVENT
BEGIN:VEVENT
DTSTART;TZID=Europe/Rome:20190521T080000
DTEND;TZID=Europe/Rome:20190523T170000
DTSTAMP:20260420T151351
CREATED:20190503T105606Z
LAST-MODIFIED:20230924T123127Z
UID:2528-1558425600-1558630800@www.pincobiz.com
SUMMARY:Architects Party - Napoli
DESCRIPTION:Dal 21 al 23 maggio ricominciano gli appuntamenti con Towant e gli eventi dove saremo protagonisti con la realizzazione di video e foto durante le varie tappe. Si comincia a Napoli con gli appuntamenti alla scoperta dei più importanti studi di Architettura presso il capoluogo partenope. \nVi aspettiamo!
URL:https://www.pincobiz.com/event/architects-party/
ATTACH;FMTTYPE=image/jpeg:https://www.pincobiz.com/wp-content/uploads/2019/05/architects-Party_2019.jpg
END:VEVENT
BEGIN:VEVENT
DTSTART;TZID=Europe/Rome:20190427T080000
DTEND;TZID=Europe/Rome:20190608T170000
DTSTAMP:20260420T151351
CREATED:20190503T094220Z
LAST-MODIFIED:20230924T123127Z
UID:2524-1556352000-1560013200@www.pincobiz.com
SUMMARY:Parma Energy
DESCRIPTION:Un evento di più di un mese dove trovare tantissime discipline sportive tipiche del DNA di PINCO SRL. \nSkate\, Parkour\, Pattinaggio in linea\, Calcetto\, Basket e non solo. Tante le possibilità  per divertirsi con noi gratuitamente \nclicca qui per il programma completo \n  \n 
URL:https://www.pincobiz.com/event/parma-energy/
LOCATION:parma retail
ATTACH;FMTTYPE=image/jpeg:https://www.pincobiz.com/wp-content/uploads/2019/05/parma-retail.jpg
END:VEVENT
BEGIN:VEVENT
DTSTART;VALUE=DATE:20180915
DTEND;VALUE=DATE:20180916
DTSTAMP:20260420T151351
CREATED:20180115T135207Z
LAST-MODIFIED:20230924T123125Z
UID:2509-1536969600-1537055999@www.pincobiz.com
SUMMARY:Berlin Marathon
DESCRIPTION:L’evento Clou dell’anno\, più di 5000 pattinatori insieme a Rollerblade
URL:https://www.pincobiz.com/event/berlin-marathon/
LOCATION:Berlin
END:VEVENT
BEGIN:VEVENT
DTSTART;VALUE=DATE:20180706
DTEND;VALUE=DATE:20180714
DTSTAMP:20260420T151351
CREATED:20180115T135044Z
LAST-MODIFIED:20230924T123124Z
UID:2506-1530835200-1531526399@www.pincobiz.com
SUMMARY:Giochi del Tricolore
DESCRIPTION:Più di 2000 ragazzi di tutte le nazionalità pronti a sfidarsi nelle discipline sportive. Pinco alla gestione del villaggio presso la piazza principale di Reggio Emilia.
URL:https://www.pincobiz.com/event/giochi-del-tricolore/
LOCATION:Piazza Tricolore\, Reggio Emilia
END:VEVENT
BEGIN:VEVENT
DTSTART;TZID=Europe/Rome:20180310T080000
DTEND;TZID=Europe/Rome:20180311T170000
DTSTAMP:20260420T151351
CREATED:20171130T181804Z
LAST-MODIFIED:20230924T123121Z
UID:2477-1520668800-1520787600@www.pincobiz.com
SUMMARY:The Rollerday - Treviso Marathon
DESCRIPTION:Ritorna la Treviso Marathon\, un appuntamento da non perdere a Treviso! \nCi saremo anche noi ad organizzare l’evento per Rollerblade.
URL:https://www.pincobiz.com/event/the-rollerday-treviso-marathon/
LOCATION:piazzale Burchiellati\, Treviso
END:VEVENT
BEGIN:VEVENT
DTSTART;TZID=Europe/Rome:20180128T080000
DTEND;TZID=Europe/Rome:20180201T170000
DTSTAMP:20260420T151351
CREATED:20180115T132705Z
LAST-MODIFIED:20230924T123124Z
UID:2503-1517126400-1517504400@www.pincobiz.com
SUMMARY:Ispo
DESCRIPTION:La principale fiera di settore Europea.
URL:https://www.pincobiz.com/event/ispo-2/
LOCATION:Messe Munchen
END:VEVENT
BEGIN:VEVENT
DTSTART;VALUE=DATE:20171215
DTEND;VALUE=DATE:20171216
DTSTAMP:20260420T151351
CREATED:20171130T181407Z
LAST-MODIFIED:20230924T123121Z
UID:2473-1513296000-1513382399@www.pincobiz.com
SUMMARY:Meeting Promoter Rollerblade
DESCRIPTION:La collaborazione con Rollerblade si completa con il coordinamento delle riunioni promoter per Rollerblade in appuntamenti tecnici. Nuovo appuntamento di aggiornamento il 15 dicembre in sede!
URL:https://www.pincobiz.com/event/meeting-promoter-rollerblade/
LOCATION:Giavera del Montello
ATTACH;FMTTYPE=image/jpeg:https://www.pincobiz.com/wp-content/uploads/2017/11/meeting_rollerblade.jpg
END:VEVENT
BEGIN:VEVENT
DTSTART;TZID=Europe/Rome:20171104T090000
DTEND;TZID=Europe/Rome:20171105T170000
DTSTAMP:20260420T151351
CREATED:20170717T095202Z
LAST-MODIFIED:20230924T123119Z
UID:2460-1509786000-1509901200@www.pincobiz.com
SUMMARY:VR 360  - Professional Training
DESCRIPTION:Il 4 e 5 novembre organizzeremo il secondo capitolo del VR360 Professional Training. Un appuntamento organizzato da Pinco in collaborazione con Gocamera e  WAcollective. \nLa tecnologia vr360 è la punta di diamante delle riprese video e da qualche anno Pinco ha creato una community di  professionisti volta alla realizzazione di video immersivi. \nQui il nostro Showreel! 
URL:https://www.pincobiz.com/event/vr-360-professional-training/
LOCATION:Milano\, Milano
ATTACH;FMTTYPE=image/jpeg:https://www.pincobiz.com/wp-content/uploads/2017/04/registrazione.jpg
END:VEVENT
BEGIN:VEVENT
DTSTART;TZID=Europe/Rome:20171027T080000
DTEND;TZID=Europe/Rome:20171029T170000
DTSTAMP:20260420T151351
CREATED:20170413T224341Z
LAST-MODIFIED:20230924T123117Z
UID:2452-1509091200-1509296400@www.pincobiz.com
SUMMARY:Skipass
DESCRIPTION:L’evento che apre la stagione sulla neve\, l’appuntamento più ricercato dagli appasionati di sci e snowboard. Come sempre saremo protagonisti nelle 3 giornate della fiera di Modena. \nPinco è sempre stata presente nell’organizzazione di eventi e contenuti speciali .
URL:https://www.pincobiz.com/event/skipass/
ATTACH;FMTTYPE=image/png:https://www.pincobiz.com/wp-content/uploads/2017/04/skipass.png
END:VEVENT
BEGIN:VEVENT
DTSTART;VALUE=DATE:20170924
DTEND;VALUE=DATE:20170925
DTSTAMP:20260420T151351
CREATED:20170131T093433Z
LAST-MODIFIED:20230924T123059Z
UID:1857-1506211200-1506297599@www.pincobiz.com
SUMMARY:44° Berlin Marathon - SCC
DESCRIPTION:La maratona con più iscritti al mondo\, più di 40mila podisti e 6mila pattinatori. Un appuntamento unico del suo genere. Una avventura che comincia già da oggi per prepararsi all’evento.
URL:https://www.pincobiz.com/event/44-berlin-marathon-scc/
LOCATION:Berlin Marathon\, Hanns-Braun-Straße/Adlerplatz\, Berlin\, Germania
ATTACH;FMTTYPE=image/jpeg:https://www.pincobiz.com/wp-content/uploads/2017/01/700x415c_Berlin.jpg
END:VEVENT
BEGIN:VEVENT
DTSTART;TZID=Europe/Rome:20170721T080000
DTEND;TZID=Europe/Rome:20170722T170000
DTSTAMP:20260420T151351
CREATED:20170717T095535Z
LAST-MODIFIED:20230924T123119Z
UID:2462-1500624000-1500742800@www.pincobiz.com
SUMMARY:Pattina con Rollerblade questa Estate
DESCRIPTION:Gli eventi con Rollerblade non finiscono mai. \nAnche questo weekend sono previsti 2 eventi per rendere ancora più bollente questa estate in compagnia dei pattini Rollerblade. \n 
URL:https://www.pincobiz.com/event/pattina-con-rollerblade-questa-estate/
ATTACH;FMTTYPE=image/jpeg:https://www.pincobiz.com/wp-content/uploads/2017/07/eventi_luglio.jpg
END:VEVENT
BEGIN:VEVENT
DTSTART;VALUE=DATE:20170604
DTEND;VALUE=DATE:20170605
DTSTAMP:20260420T151351
CREATED:20170131T091644Z
LAST-MODIFIED:20230924T123058Z
UID:1853-1496534400-1496620799@www.pincobiz.com
SUMMARY:Rollercup
DESCRIPTION:Una gara imperdibile dentro il circuito più famoso al mondo. La Rollercup è una “classica” dove rivivere le emozioni sulle curve leggendarie della formula 1. \nNoi ci occuperemo degli allestimenti di Rollerblade e della gestione comunicazione dell’evento.
URL:https://www.pincobiz.com/event/rollercup/
LOCATION:Autodromo di Monza\, Via Vedano\, 5 \, Monza\, Italia
ATTACH;FMTTYPE=image/jpeg:https://www.pincobiz.com/wp-content/uploads/2017/01/IMG_3641-1.jpg
END:VEVENT
BEGIN:VEVENT
DTSTART;TZID=Europe/Rome:20170520T080000
DTEND;TZID=Europe/Rome:20170523T170000
DTSTAMP:20260420T151351
CREATED:20170209T092221Z
LAST-MODIFIED:20230924T123110Z
UID:2324-1495267200-1495558800@www.pincobiz.com
SUMMARY:Jeremy Suarez Italian tour
DESCRIPTION:4 giorni di adrenalina pura con Jeremy Suarez\, team international Rollerblade\, in 4 appuntamenti imperdibili. \nRoma- Bologna e Milano sono le 3 città toccate da Jeremy.
URL:https://www.pincobiz.com/event/jeremy-suarez-italian-tour/
ATTACH;FMTTYPE=image/jpeg:https://www.pincobiz.com/wp-content/uploads/2017/02/FlyerJeremy_A4-5-generale.jpg
END:VEVENT
BEGIN:VEVENT
DTSTART;TZID=Europe/Rome:20170507T080000
DTEND;TZID=Europe/Rome:20170507T170000
DTSTAMP:20260420T151351
CREATED:20170413T223327Z
LAST-MODIFIED:20230924T123116Z
UID:2444-1494144000-1494176400@www.pincobiz.com
SUMMARY:Placentia Half-Marathon
DESCRIPTION:Il 7 maggio si corre per le strade di Piacenza\, prova di 21k dedicata per il primo anno anche ai pattini. \nNel pomeriggio Rollerblade organizzerà anche un test gratuito per le persone che vogliono avvicinarsi al pattinaggio in linea con istruttori qualificati. \nVi aspettiamo.
URL:https://www.pincobiz.com/event/placentia-half-marathon/
LOCATION:Piacenza\, piacenza
ATTACH;FMTTYPE=image/png:https://www.pincobiz.com/wp-content/uploads/2017/04/piacenza_halfmarathon.png
END:VEVENT
BEGIN:VEVENT
DTSTART;TZID=Europe/Rome:20170324T080000
DTEND;TZID=Europe/Rome:20170325T170000
DTSTAMP:20260420T151351
CREATED:20170131T112440Z
LAST-MODIFIED:20230924T123059Z
UID:1871-1490342400-1490461200@www.pincobiz.com
SUMMARY:Vr360 Professional Training
DESCRIPTION:Gocamera  e Pinco srl organizzano uno dei corsi più innovativi nel campo della riproduzione Multimediale. \nGrazie alle conoscenze sviluppate con il nostro Spin off  WAcollective organizziamo il primo corso professionale dedicato all’editing dei video Immersivi!
URL:https://www.pincobiz.com/event/vr360-professional-training/
LOCATION:Milano\, Milano
ATTACH;FMTTYPE=image/jpeg:https://www.pincobiz.com/wp-content/uploads/2017/01/2000_00027-FILEminimizer.jpg
END:VEVENT
BEGIN:VEVENT
DTSTART;TZID=Europe/Rome:20170307T080000
DTEND;TZID=Europe/Rome:20170311T170000
DTSTAMP:20260420T151351
CREATED:20170131T010923Z
LAST-MODIFIED:20230924T123057Z
UID:1802-1488873600-1489251600@www.pincobiz.com
SUMMARY:Real Architecture @Madeexpo
DESCRIPTION:40 Architetti con una GoPro per scoprire tutte le novità del  Madeexpo\, 5 videomaker ad amplificare le emozioni dei protagonisti. Un appuntamento unico organizzato in collaborazione con Towant.
URL:https://www.pincobiz.com/event/real-architecture-madeexpo/
LOCATION:Fiera di Rho\, Milano\, Italia
ATTACH;FMTTYPE=image/jpeg:https://www.pincobiz.com/wp-content/uploads/2017/02/pier-FILEminimizer.jpg
END:VEVENT
BEGIN:VEVENT
DTSTART;TZID=Europe/Rome:20170304T123000
DTEND;TZID=Europe/Rome:20170304T133000
DTSTAMP:20260420T151351
CREATED:20170302T110446Z
LAST-MODIFIED:20230924T123115Z
UID:2429-1488630600-1488634200@www.pincobiz.com
SUMMARY:Workshop GoPro con Gocamera all'EUDI 2017 Sabato 4 marzo ore 12.30
DESCRIPTION:Nuovo appuntamento con i video vr360 e le esperienze che ci stanno portando in giro per l’Europa. \nSabato alle ore 12.30 presso Eudi Show (Bologna dal 3 al 5 marzo 2017) saremo ospiti per Gocamera con uno speech sul vr360 e le tecnologie\, in particolare con l’esperienza di Umberto Pelizzari ad Y40. \nPer chi si vuole avvicinare a questa tecnologia e per gli appassionati un appuntamento unico nel suo genere. \n 
URL:https://www.pincobiz.com/event/workshop-gopro-con-gocamera-alleudi-2017-sabato-4-marzo-ore-12-30/
ATTACH;FMTTYPE=image/png:https://www.pincobiz.com/wp-content/uploads/2017/03/workshop_eudi.png
END:VEVENT
END:VCALENDAR