BEGIN:VCALENDAR
VERSION:2.0
PRODID:-//Pinco S.r.l. - ECPv6.15.20//NONSGML v1.0//EN
CALSCALE:GREGORIAN
METHOD:PUBLISH
X-ORIGINAL-URL:https://www.pincobiz.com
X-WR-CALDESC:Eventi per Pinco S.r.l.
REFRESH-INTERVAL;VALUE=DURATION:PT1H
X-Robots-Tag:noindex
X-PUBLISHED-TTL:PT1H
BEGIN:VTIMEZONE
TZID:Europe/Rome
BEGIN:DAYLIGHT
TZOFFSETFROM:+0100
TZOFFSETTO:+0200
TZNAME:CEST
DTSTART:20180325T010000
END:DAYLIGHT
BEGIN:STANDARD
TZOFFSETFROM:+0200
TZOFFSETTO:+0100
TZNAME:CET
DTSTART:20181028T010000
END:STANDARD
BEGIN:DAYLIGHT
TZOFFSETFROM:+0100
TZOFFSETTO:+0200
TZNAME:CEST
DTSTART:20190331T010000
END:DAYLIGHT
BEGIN:STANDARD
TZOFFSETFROM:+0200
TZOFFSETTO:+0100
TZNAME:CET
DTSTART:20191027T010000
END:STANDARD
BEGIN:DAYLIGHT
TZOFFSETFROM:+0100
TZOFFSETTO:+0200
TZNAME:CEST
DTSTART:20200329T010000
END:DAYLIGHT
BEGIN:STANDARD
TZOFFSETFROM:+0200
TZOFFSETTO:+0100
TZNAME:CET
DTSTART:20201025T010000
END:STANDARD
END:VTIMEZONE
BEGIN:VEVENT
DTSTART;TZID=Europe/Rome:20190604T200000
DTEND;TZID=Europe/Rome:20190604T233000
DTSTAMP:20260422T145158
CREATED:20190503T111549Z
LAST-MODIFIED:20230924T123129Z
UID:2536-1559678400-1559691000@www.pincobiz.com
SUMMARY:8° Compleanno Milanoskating
DESCRIPTION:Il pattinaggio in Italia ha una sua capitale\, Milano. \nI ragazzi di Milanoskating organizzano anche per quest’anno l’appuntamento più cool per pattinare insieme a voi. \nPinco Srl sarà impegnato sul lato organizzativo per Rollerblade. Un compleanno veramente speciale da seguire! \n 
URL:https://www.pincobiz.com/event/8-compleanno-milanoskating/
LOCATION:Milano\, Milano\, Italia
ATTACH;FMTTYPE=image/jpeg:https://www.pincobiz.com/wp-content/uploads/2019/05/31216829357_49157bcfd2_o.jpg
END:VEVENT
END:VCALENDAR